BEGIN:VCALENDAR
VERSION:2.0
PRODID:-//Oshkosh Arena - ECPv6.15.20//NONSGML v1.0//EN
CALSCALE:GREGORIAN
METHOD:PUBLISH
X-ORIGINAL-URL:https://oshkosharena.com
X-WR-CALDESC:Events for Oshkosh Arena
REFRESH-INTERVAL;VALUE=DURATION:PT1H
X-Robots-Tag:noindex
X-PUBLISHED-TTL:PT1H
BEGIN:VTIMEZONE
TZID:America/Chicago
BEGIN:DAYLIGHT
TZOFFSETFROM:-0600
TZOFFSETTO:-0500
TZNAME:CDT
DTSTART:20210314T080000
END:DAYLIGHT
BEGIN:STANDARD
TZOFFSETFROM:-0500
TZOFFSETTO:-0600
TZNAME:CST
DTSTART:20211107T070000
END:STANDARD
BEGIN:DAYLIGHT
TZOFFSETFROM:-0600
TZOFFSETTO:-0500
TZNAME:CDT
DTSTART:20220313T080000
END:DAYLIGHT
BEGIN:STANDARD
TZOFFSETFROM:-0500
TZOFFSETTO:-0600
TZNAME:CST
DTSTART:20221106T070000
END:STANDARD
BEGIN:DAYLIGHT
TZOFFSETFROM:-0600
TZOFFSETTO:-0500
TZNAME:CDT
DTSTART:20230312T080000
END:DAYLIGHT
BEGIN:STANDARD
TZOFFSETFROM:-0500
TZOFFSETTO:-0600
TZNAME:CST
DTSTART:20231105T070000
END:STANDARD
END:VTIMEZONE
BEGIN:VEVENT
DTSTART;TZID=America/Chicago:20221208T180000
DTEND;TZID=America/Chicago:20221208T220000
DTSTAMP:20260421T125738
CREATED:20220210T164616Z
LAST-MODIFIED:20221206T163105Z
UID:10000917-1670522400-1670536800@oshkosharena.com
SUMMARY:Disney Princess: The Concert
DESCRIPTION:The Oshkosh Arena Presents:\nDISNEY PRINCESS: THE CONCERT\nLive Thursday December 8th\, 2022\nShow starts at 7pm\nDoors open at 6pm\nOshkosh Arena\n1212 S. Main St\, Oshkosh\, WI\nAll Ages to enter | 21+ With Id to Drink\nTICKETS ON SALE NOW online or at the venue box office Monday-Friday 10am-5pm (920) 309-8285\n\n(Christy Altomare\, Isabelle McCalla\, Anneliese van der Pol\, Syndee Winters\, Benjamin Rauhala\, Adam J. Levy)\nFor generations\, the music of Disney’s princesses has been the soundtrack to our lives. Now\,\nfor the first time in forever\, a quartet of Broadway and television icons celebrate these beloved\nsongs on stage in Disney Princess - The Concert! Drama Desk®-nominee Christy Altomare\n(original Anastasia\, Mamma Mia!)\, Broadway.com® Audience Award-nominee Isabelle McCalla\n(’Princess Jasmine’ in Aladdin\, The Prom)\, Disney Channel star Anneliese van der Pol (‘Belle’\nin Beauty and the Beast and 'Chelsea Daniels’ on That’s So Raven/Raven’s Home)\, and\nBroadwayWorld® Award-winner Syndee Winters ('Nala’ in The Lion King\, Hamilton) combine\nforces in this concert of a lifetime\, joined by their magical Music Director\, Benjamin Rauhala\n(Fiddler on the Roof) and enchanting Prince\, Adam J. Levy (Moulin Rouge). Your every dream\nwill come true as larger than life animation and theatrical effects immerse the audience in pure\nDisney magic\, while these acclaimed stars sing the music of every Disney Princess and share\ntheir exclusive\, hilarious and heartfelt behind-the-scenes stories from their time on the stage\nand screen. We invite you to relive your VHS glory days\, dress up in your favorite royal attire\,\nand share the joy with your loved ones. Be part of our world at Disney Princess - The Concert\,\npresented by Pandora Jewelry.\n\nThis production features Broadway performers appearing as themselves.\nCostumed Disney characters do not appear at this event.
URL:https://oshkosharena.com/event/disney-princess-the-concert/
LOCATION:WI
ATTACH;FMTTYPE=image/png:https://oshkosharena.com/wp-content/uploads/2022/02/Website-1220-X-550-px.png
END:VEVENT
END:VCALENDAR