BEGIN:VCALENDAR
VERSION:2.0
PRODID:-//Oshkosh Arena - ECPv6.15.20//NONSGML v1.0//EN
CALSCALE:GREGORIAN
METHOD:PUBLISH
X-ORIGINAL-URL:https://oshkosharena.com
X-WR-CALDESC:Events for Oshkosh Arena
REFRESH-INTERVAL;VALUE=DURATION:PT1H
X-Robots-Tag:noindex
X-PUBLISHED-TTL:PT1H
BEGIN:VTIMEZONE
TZID:America/Chicago
BEGIN:DAYLIGHT
TZOFFSETFROM:-0600
TZOFFSETTO:-0500
TZNAME:CDT
DTSTART:20210314T080000
END:DAYLIGHT
BEGIN:STANDARD
TZOFFSETFROM:-0500
TZOFFSETTO:-0600
TZNAME:CST
DTSTART:20211107T070000
END:STANDARD
BEGIN:DAYLIGHT
TZOFFSETFROM:-0600
TZOFFSETTO:-0500
TZNAME:CDT
DTSTART:20220313T080000
END:DAYLIGHT
BEGIN:STANDARD
TZOFFSETFROM:-0500
TZOFFSETTO:-0600
TZNAME:CST
DTSTART:20221106T070000
END:STANDARD
BEGIN:DAYLIGHT
TZOFFSETFROM:-0600
TZOFFSETTO:-0500
TZNAME:CDT
DTSTART:20230312T080000
END:DAYLIGHT
BEGIN:STANDARD
TZOFFSETFROM:-0500
TZOFFSETTO:-0600
TZNAME:CST
DTSTART:20231105T070000
END:STANDARD
END:VTIMEZONE
BEGIN:VEVENT
DTSTART;TZID=America/Chicago:20221211T100000
DTEND;TZID=America/Chicago:20221211T180000
DTSTAMP:20260421T090017
CREATED:20221129T231921Z
LAST-MODIFIED:20221129T231921Z
UID:10000973-1670752800-1670781600@oshkosharena.com
SUMMARY:SKATE THE ARENA PART 2
DESCRIPTION:Oshkosh Arena and Surfin’ Bird Skateshop Present:\nSKATE THE ARENA PART 2\nSunday December 11th\, 2022 starting at 10AM\nOpen Skate\, a game of S.K.A.T.E\, and Best Trick Contest\n$5 Cover at the Door\nOshkosh Arena\n1212 S. Main St\nOshkosh\, Wisconsin 54902\nAll Ages to enter | 21+ With Id to Drink\n#oshkosh #events #skatethearena #skateboarding
URL:https://oshkosharena.com/event/skate-the-arena-part-2/
LOCATION:WI
ATTACH;FMTTYPE=image/png:https://oshkosharena.com/wp-content/uploads/2022/11/Skate-The-Arena-Part-2-Insta-1200-×-1200-px.png
END:VEVENT
END:VCALENDAR