BEGIN:VCALENDAR
VERSION:2.0
PRODID:-//Oshkosh Arena - ECPv6.15.20//NONSGML v1.0//EN
CALSCALE:GREGORIAN
METHOD:PUBLISH
X-ORIGINAL-URL:https://oshkosharena.com
X-WR-CALDESC:Events for Oshkosh Arena
REFRESH-INTERVAL;VALUE=DURATION:PT1H
X-Robots-Tag:noindex
X-PUBLISHED-TTL:PT1H
BEGIN:VTIMEZONE
TZID:America/Chicago
BEGIN:DAYLIGHT
TZOFFSETFROM:-0600
TZOFFSETTO:-0500
TZNAME:CDT
DTSTART:20240310T080000
END:DAYLIGHT
BEGIN:STANDARD
TZOFFSETFROM:-0500
TZOFFSETTO:-0600
TZNAME:CST
DTSTART:20241103T070000
END:STANDARD
BEGIN:DAYLIGHT
TZOFFSETFROM:-0600
TZOFFSETTO:-0500
TZNAME:CDT
DTSTART:20250309T080000
END:DAYLIGHT
BEGIN:STANDARD
TZOFFSETFROM:-0500
TZOFFSETTO:-0600
TZNAME:CST
DTSTART:20251102T070000
END:STANDARD
BEGIN:DAYLIGHT
TZOFFSETFROM:-0600
TZOFFSETTO:-0500
TZNAME:CDT
DTSTART:20260308T080000
END:DAYLIGHT
BEGIN:STANDARD
TZOFFSETFROM:-0500
TZOFFSETTO:-0600
TZNAME:CST
DTSTART:20261101T070000
END:STANDARD
END:VTIMEZONE
BEGIN:VEVENT
DTSTART;TZID=America/Chicago:20251203T190000
DTEND;TZID=America/Chicago:20251203T220000
DTSTAMP:20260421T221439
CREATED:20250903T212326Z
LAST-MODIFIED:20250903T212326Z
UID:10001214-1764788400-1764799200@oshkosharena.com
SUMMARY:Crazy Train: America's Ozzy Tribute with opener Johnny Wad
DESCRIPTION:It’s Ozzy’s Birthday Bash! \nAre you ready to celebrate the gone-but-never-forgotten legacy of Ozzy Osbourne on his very first birthday since he departed this earth? Join our party with Crazy Train: America’s Ozzy Tribute\, THE Ultimate Touring Ozzy Osbourne Tribute Show\, hosted by Vinny Cormier\, North America’s No. 1 Ozzy Osbourne tribute artist! \nVinny is supported by a band full of Berklee College of Music dropouts\, including his son Dylan\, who come together collectively to deliver a captivating show unlike no other – musically and visually. The show is packed with special effects and “WOW!” moments you won’t forget! Crazy Train plays every show like it is LIVE AND LOUD 1993! Crazy Train rolls over all the Prince of Darkness’ noteworthy hits – from Sabbath to Patient #9. \nPrior to the Crazy Train\, Johnny Wad will warm up the audience with its lineup of all the favorites from the ’80s and ’90s. Johnny Wad is the most-requested band in Wisconsin! This is the band you’ve been hearing about: Four lead vocalists\, spine-tingling harmonies\, dual lead guitars and musicianship that will knock you out. Johnny Wad re-creates the best of the ’80s and ’90s with a can’t-miss party attitude. The band headlines just about every major festival out there\, and there’s good reason for it. \nWe’re bringing on the boys from Johnny Wad to complement the Crazy Train for a party fitting of Ozzy’s reputation. \nAll aboard! \n 
URL:https://oshkosharena.com/event/crazy-train-americas-ozzy-tribute-with-opener-johnny-wad/
LOCATION:Oshkosh Arena\, 1212 S Main St\, Oshkosh\, WI\, 54902\, United States
ATTACH;FMTTYPE=image/png:https://oshkosharena.com/wp-content/uploads/2025/09/Website-Event-Images-1200-x-630-px-12.png
GEO:44.0072516;-88.5375145
X-APPLE-STRUCTURED-LOCATION;VALUE=URI;X-ADDRESS=Oshkosh Arena 1212 S Main St Oshkosh WI 54902 United States;X-APPLE-RADIUS=500;X-TITLE=1212 S Main St:geo:-88.5375145,44.0072516
END:VEVENT
END:VCALENDAR