BEGIN:VCALENDAR
VERSION:2.0
PRODID:-//Oshkosh Arena - ECPv6.15.20//NONSGML v1.0//EN
CALSCALE:GREGORIAN
METHOD:PUBLISH
X-ORIGINAL-URL:https://oshkosharena.com
X-WR-CALDESC:Events for Oshkosh Arena
REFRESH-INTERVAL;VALUE=DURATION:PT1H
X-Robots-Tag:noindex
X-PUBLISHED-TTL:PT1H
BEGIN:VTIMEZONE
TZID:America/Chicago
BEGIN:DAYLIGHT
TZOFFSETFROM:-0600
TZOFFSETTO:-0500
TZNAME:CDT
DTSTART:20240310T080000
END:DAYLIGHT
BEGIN:STANDARD
TZOFFSETFROM:-0500
TZOFFSETTO:-0600
TZNAME:CST
DTSTART:20241103T070000
END:STANDARD
BEGIN:DAYLIGHT
TZOFFSETFROM:-0600
TZOFFSETTO:-0500
TZNAME:CDT
DTSTART:20250309T080000
END:DAYLIGHT
BEGIN:STANDARD
TZOFFSETFROM:-0500
TZOFFSETTO:-0600
TZNAME:CST
DTSTART:20251102T070000
END:STANDARD
BEGIN:DAYLIGHT
TZOFFSETFROM:-0600
TZOFFSETTO:-0500
TZNAME:CDT
DTSTART:20260308T080000
END:DAYLIGHT
BEGIN:STANDARD
TZOFFSETFROM:-0500
TZOFFSETTO:-0600
TZNAME:CST
DTSTART:20261101T070000
END:STANDARD
END:VTIMEZONE
BEGIN:VEVENT
DTSTART;TZID=America/Chicago:20251229T130000
DTEND;TZID=America/Chicago:20251229T210000
DTSTAMP:20260421T000150
CREATED:20251210T182715Z
LAST-MODIFIED:20251210T182715Z
UID:10001243-1767013200-1767042000@oshkosharena.com
SUMMARY:BSN Winter Classic (Hosted by UW-Oshkosh)
DESCRIPTION:Join us for two exciting days of college basketball\, as UW-Oshkosh hosts its annual BSN Winter Classic on Dec. 28-29! \nCourt action tips off at 1 p.m. each day\, featuring top women’s and men’s teams from across the region. \nThe schedule for Dec. 29 is as follows: \n\n1 p.m. (women) – Minnesota Morris vs. Ripon College\n3:30 p.m. (women) – UW-Oshkosh vs. UW-Superior\n6 p.m. (men) – UW-Stout vs. Lawrence University\n\nDon’t miss this winter hoops showdown of talent and competition!
URL:https://oshkosharena.com/event/bsn-winter-classic-hosted-by-uw-oshkosh-2/
LOCATION:Oshkosh Arena\, 1212 S Main St\, Oshkosh\, WI\, 54902\, United States
ATTACH;FMTTYPE=image/png:https://oshkosharena.com/wp-content/uploads/2025/12/Website-Event-Images-1200-x-630-px-16.png
GEO:44.0072516;-88.5375145
X-APPLE-STRUCTURED-LOCATION;VALUE=URI;X-ADDRESS=Oshkosh Arena 1212 S Main St Oshkosh WI 54902 United States;X-APPLE-RADIUS=500;X-TITLE=1212 S Main St:geo:-88.5375145,44.0072516
END:VEVENT
END:VCALENDAR