BEGIN:VCALENDAR
VERSION:2.0
PRODID:-//Oshkosh Arena - ECPv6.15.20//NONSGML v1.0//EN
CALSCALE:GREGORIAN
METHOD:PUBLISH
X-WR-CALNAME:Oshkosh Arena
X-ORIGINAL-URL:https://oshkosharena.com
X-WR-CALDESC:Events for Oshkosh Arena
REFRESH-INTERVAL;VALUE=DURATION:PT1H
X-Robots-Tag:noindex
X-PUBLISHED-TTL:PT1H
BEGIN:VTIMEZONE
TZID:America/Chicago
BEGIN:DAYLIGHT
TZOFFSETFROM:-0600
TZOFFSETTO:-0500
TZNAME:CDT
DTSTART:20250309T080000
END:DAYLIGHT
BEGIN:STANDARD
TZOFFSETFROM:-0500
TZOFFSETTO:-0600
TZNAME:CST
DTSTART:20251102T070000
END:STANDARD
BEGIN:DAYLIGHT
TZOFFSETFROM:-0600
TZOFFSETTO:-0500
TZNAME:CDT
DTSTART:20260308T080000
END:DAYLIGHT
BEGIN:STANDARD
TZOFFSETFROM:-0500
TZOFFSETTO:-0600
TZNAME:CST
DTSTART:20261101T070000
END:STANDARD
BEGIN:DAYLIGHT
TZOFFSETFROM:-0600
TZOFFSETTO:-0500
TZNAME:CDT
DTSTART:20270314T080000
END:DAYLIGHT
BEGIN:STANDARD
TZOFFSETFROM:-0500
TZOFFSETTO:-0600
TZNAME:CST
DTSTART:20271107T070000
END:STANDARD
END:VTIMEZONE
BEGIN:VEVENT
DTSTART;TZID=America/Chicago:20260227T193000
DTEND;TZID=America/Chicago:20260227T213000
DTSTAMP:20260422T012514
CREATED:20260106T000640Z
LAST-MODIFIED:20260110T214949Z
UID:10001244-1772220600-1772227800@oshkosharena.com
SUMMARY:Battle for the Lake Rodeo
DESCRIPTION:Let the Battle for the Lake begin! Get ready for the ultimate rodeo showdown when Wildhorse Productions and Sandburr Rodeo Productions bring high-energy rodeo action indoors\, to the Oshkosh Arena on Friday\, Feb. 27 and Saturday\, Feb. 28 (Kids Night). \nWith strong community support from local sponsors\, including Theisen’s (presenting sponsor)\, this is a must-see for rodeo fans of all ages. \nRodeo attendees will enjoy the thrills of the following rodeo features: \n\nBareback Bronc Riding is one of rodeo’s most challenging events\, where the rider must stay on a bucking horse for 8 seconds using only one hand.\nSaddle Bronc Riding features a rider using a special saddle and braided rein to stay on a bucking horse for 8 seconds.\nRanch Bronc Riding features everyday cowboys\, rather than pro riders\, on a bucking horse for 8 seconds.\nBull Riding challenges riders to stay on a bucking bull for 8 seconds without touching the bull\, themselves or their equipment with their free hand.\nBarrel Racing is a fast-paced event where riders and their horses race around 3 barrels in a cloverleaf pattern\, aiming for the quickest time.\nRising Stars of Rodeo showcases the next generation of rodeo talent in classic competition categories.\nMutton Bustin’ is for kids 2 to 7 who weigh less than 60 lbs. with sign-ups taking place each performance from 5 to 7 p.m.\n\nSaturday\, Feb. 28\, is Kids Night and will feature free pony rides. \nDon’t miss out on the fun in seeing who will prevail when the Battle for the Lake hits Oshkosh Arena this February!
URL:https://oshkosharena.com/event/battle-for-the-lake-rodeo/
LOCATION:Oshkosh Arena\, 1212 S Main St\, Oshkosh\, WI\, 54902\, United States
ATTACH;FMTTYPE=image/png:https://oshkosharena.com/wp-content/uploads/2026/01/Website-Event-Images-1200-x-630-px-17.png
ORGANIZER;CN="Wildhorse Productions":MAILTO:charlieisaacs2@msn.com
GEO:44.0072516;-88.5375145
X-APPLE-STRUCTURED-LOCATION;VALUE=URI;X-ADDRESS=Oshkosh Arena 1212 S Main St Oshkosh WI 54902 United States;X-APPLE-RADIUS=500;X-TITLE=1212 S Main St:geo:-88.5375145,44.0072516
END:VEVENT
END:VCALENDAR