BEGIN:VCALENDAR
VERSION:2.0
PRODID:-//Oshkosh Arena - ECPv6.15.20//NONSGML v1.0//EN
CALSCALE:GREGORIAN
METHOD:PUBLISH
X-ORIGINAL-URL:https://oshkosharena.com
X-WR-CALDESC:Events for Oshkosh Arena
REFRESH-INTERVAL;VALUE=DURATION:PT1H
X-Robots-Tag:noindex
X-PUBLISHED-TTL:PT1H
BEGIN:VTIMEZONE
TZID:America/Chicago
BEGIN:DAYLIGHT
TZOFFSETFROM:-0600
TZOFFSETTO:-0500
TZNAME:CDT
DTSTART:20210314T080000
END:DAYLIGHT
BEGIN:STANDARD
TZOFFSETFROM:-0500
TZOFFSETTO:-0600
TZNAME:CST
DTSTART:20211107T070000
END:STANDARD
BEGIN:DAYLIGHT
TZOFFSETFROM:-0600
TZOFFSETTO:-0500
TZNAME:CDT
DTSTART:20220313T080000
END:DAYLIGHT
BEGIN:STANDARD
TZOFFSETFROM:-0500
TZOFFSETTO:-0600
TZNAME:CST
DTSTART:20221106T070000
END:STANDARD
BEGIN:DAYLIGHT
TZOFFSETFROM:-0600
TZOFFSETTO:-0500
TZNAME:CDT
DTSTART:20230312T080000
END:DAYLIGHT
BEGIN:STANDARD
TZOFFSETFROM:-0500
TZOFFSETTO:-0600
TZNAME:CST
DTSTART:20231105T070000
END:STANDARD
END:VTIMEZONE
BEGIN:VEVENT
DTSTART;TZID=America/Chicago:20221012T060000
DTEND;TZID=America/Chicago:20221012T210000
DTSTAMP:20260422T190434
CREATED:20220823T192208Z
LAST-MODIFIED:20220823T192208Z
UID:10000937-1665554400-1665608400@oshkosharena.com
SUMMARY:Private Event
DESCRIPTION:
URL:https://oshkosharena.com/event/private-event-15/
LOCATION:WI
ATTACH;FMTTYPE=image/png:https://oshkosharena.com/wp-content/uploads/2022/01/Oshkosh_Arena_Logo_CMYK-002-TRANSPARENT.png
END:VEVENT
BEGIN:VEVENT
DTSTART;TZID=America/Chicago:20221014T190000
DTEND;TZID=America/Chicago:20221014T230000
DTSTAMP:20260422T190434
CREATED:20220726T221607Z
LAST-MODIFIED:20221010T154606Z
UID:10000932-1665774000-1665788400@oshkosharena.com
SUMMARY:Generation Radio / CANCELLED
DESCRIPTION:**CANCELLED**\n\nOshkosh Arena PRESENTS: Generation Radio\nwith Jay DeMarcus of Rascal Flatts\, Jason Scheff of Chicago the band\, \nSteve Ferrone of Tom Petty & The Heartbreakers\, Chris Rodriguez\, and Tom Yankton!\nLive Friday\, October 14th at 7PM\nDoors : 6PM\nOshkosh Arena\n1212 S. Main St\nOshkosh\, Wisconsin 54902\nAll Ages to enter | 21+ With ID\nTickets on sale NOW!\n#oshkosh #concert #events #generationradio 
URL:https://oshkosharena.com/event/generation-radio/
LOCATION:WI
ATTACH;FMTTYPE=image/png:https://oshkosharena.com/wp-content/uploads/2022/07/Untitled-design-6.png
END:VEVENT
BEGIN:VEVENT
DTSTART;TZID=America/Chicago:20221016T190000
DTEND;TZID=America/Chicago:20221016T230000
DTSTAMP:20260422T190434
CREATED:20220831T173127Z
LAST-MODIFIED:20220901T182807Z
UID:10000939-1665946800-1665961200@oshkosharena.com
SUMMARY:Adam Calhoun and Demun Jones
DESCRIPTION:Oshkosh Arena and FM Entertainment Present:\nACAL with Demun Jones Music\, Brodnax\, and Dusty Leigh\nLive Sunday October 16th\, 2022 at 7PM\nDoors : 6PM\nOshkosh Arena\n1212 S. Main St\nOshkosh\, Wisconsin 54902\nAll Ages to enter | 21+ With Id to Drink\nTickets on sale now\n#oshkosh #concerts #events
URL:https://oshkosharena.com/event/adam-calhoun-and-demun-jones/
LOCATION:WI
ATTACH;FMTTYPE=image/png:https://oshkosharena.com/wp-content/uploads/2022/08/Website-Final.png
END:VEVENT
BEGIN:VEVENT
DTSTART;TZID=America/Chicago:20221021T173000
DTEND;TZID=America/Chicago:20221021T230000
DTSTAMP:20260422T190434
CREATED:20220819T195418Z
LAST-MODIFIED:20220930T214124Z
UID:10000934-1666373400-1666393200@oshkosharena.com
SUMMARY:LFA: Legacy Fighting Alliance 145
DESCRIPTION:Oshkosh Arena Presents:\nLFA: Legacy Fighting Alliance 145\nLive Friday October 21st\, 2022 at 5:30PM\nDoors : 5:00PM\nOshkosh Arena\n1212 S. Main St\nOshkosh\, Wisconsin 54902\nAll Ages to enter | 21+ With Id to Drink\n#oshkosh #LFA \nMAIN EVENT: \nBJJ BLACK BELT BRUNO ASSIS \nvs. \nREGIONAL KINGPIN JESSE MURRAY \nLIGHT-HEAVYWEIGHT SHOWDOWN \nCurrently Announced Fight Card: \nMain Event | Light-Heavyweight Bout (205 lb) \n– Bruno Assis (12-6) vs. Jesse Murray (9-4) \n  \nWomen’s Flyweight Bout (125 lb) \n– Olivia Beeskau (1-1) vs. Jena Bishop (3-0) \n  \nFlyweight Bout (125 lb) \n– Tyus White (5-1) vs. Miguel Sanson (3-0) \n  \nLightweight Bout (155 lb) \n– Kegan Gennrich (4-2) vs. Jake Kozorosky (5-2) \n  \nWelterweight Bout (170 lb) \n– Scott Writz (5-2) vs. Craigs Fruth (9-5) \n  \nFlyweight Bout (125 lb) \n– Cody Linne (3-1) vs. Payton Brezinski (4-2) \n  \nWomen’s Strawweight Bout (115 lb) \n– Rachel Martinez (0-0) vs. Diamond Long (0-1) \n  \nFeatherweight Bout (145 lb) \n– Kyle Zimick (0-0) vs. Moe Maali (0-0) \n  \nBantamweight Bout (135 lb) \n– Kevin Messer (1-0) vs. Santos Verdinez (0-0) \n 
URL:https://oshkosharena.com/event/lfa-legacy-fighting-alliance-145/
LOCATION:WI
ATTACH;FMTTYPE=image/jpeg:https://oshkosharena.com/wp-content/uploads/2022/09/LFA-145-Poster-1220-x-550.jpg
END:VEVENT
BEGIN:VEVENT
DTSTART;TZID=America/Chicago:20221030T070000
DTEND;TZID=America/Chicago:20221030T150000
DTSTAMP:20260422T190434
CREATED:20221103T213719Z
LAST-MODIFIED:20221103T213719Z
UID:10000971-1667113200-1667142000@oshkosharena.com
SUMMARY:Herd 5k
DESCRIPTION:Wisconsin Herd – Home Page (nba.com)
URL:https://oshkosharena.com/event/herd-5k/
LOCATION:WI
ATTACH;FMTTYPE=image/png:https://oshkosharena.com/wp-content/uploads/2021/09/WH_Primary_RGB-3.png
END:VEVENT
END:VCALENDAR