BEGIN:VCALENDAR
VERSION:2.0
PRODID:-//Oshkosh Arena - ECPv6.15.20//NONSGML v1.0//EN
CALSCALE:GREGORIAN
METHOD:PUBLISH
X-WR-CALNAME:Oshkosh Arena
X-ORIGINAL-URL:https://oshkosharena.com
X-WR-CALDESC:Events for Oshkosh Arena
REFRESH-INTERVAL;VALUE=DURATION:PT1H
X-Robots-Tag:noindex
X-PUBLISHED-TTL:PT1H
BEGIN:VTIMEZONE
TZID:America/Chicago
BEGIN:DAYLIGHT
TZOFFSETFROM:-0600
TZOFFSETTO:-0500
TZNAME:CDT
DTSTART:20210314T080000
END:DAYLIGHT
BEGIN:STANDARD
TZOFFSETFROM:-0500
TZOFFSETTO:-0600
TZNAME:CST
DTSTART:20211107T070000
END:STANDARD
BEGIN:DAYLIGHT
TZOFFSETFROM:-0600
TZOFFSETTO:-0500
TZNAME:CDT
DTSTART:20220313T080000
END:DAYLIGHT
BEGIN:STANDARD
TZOFFSETFROM:-0500
TZOFFSETTO:-0600
TZNAME:CST
DTSTART:20221106T070000
END:STANDARD
BEGIN:DAYLIGHT
TZOFFSETFROM:-0600
TZOFFSETTO:-0500
TZNAME:CDT
DTSTART:20230312T080000
END:DAYLIGHT
BEGIN:STANDARD
TZOFFSETFROM:-0500
TZOFFSETTO:-0600
TZNAME:CST
DTSTART:20231105T070000
END:STANDARD
END:VTIMEZONE
BEGIN:VEVENT
DTSTART;TZID=America/Chicago:20221104T190000
DTEND;TZID=America/Chicago:20221104T220000
DTSTAMP:20260423T132501
CREATED:20220902T155120Z
LAST-MODIFIED:20221102T152451Z
UID:10000940-1667588400-1667599200@oshkosharena.com
SUMMARY:Windy City Bulls @ Wisconsin Herd
DESCRIPTION:Windy City Bulls @ Wisconsin Herd\nLive at The Oshkosh Arena located at 1212 S. Main St\, Oshkosh\, WI (920) 309-8285 \n 
URL:https://oshkosharena.com/event/windy-city-bulls-wisconsin-herd-4/
LOCATION:WI
ATTACH;FMTTYPE=image/png:https://oshkosharena.com/wp-content/uploads/2021/09/WH_Primary_RGB-3.png
END:VEVENT
BEGIN:VEVENT
DTSTART;TZID=America/Chicago:20221105T090000
DTEND;TZID=America/Chicago:20221105T123000
DTSTAMP:20260423T132501
CREATED:20221103T193740Z
LAST-MODIFIED:20221103T193740Z
UID:10000961-1667638800-1667651400@oshkosharena.com
SUMMARY:OSHKOSH WINTER FARMERS MARKET
DESCRIPTION:Saturday Winter Farmers Market\nOshkosh Arena\n1212 S. Main St\nOshkosh\, WI 54911\nWinter - Oshkosh Saturday Farmers Market (osfmi.com)
URL:https://oshkosharena.com/event/oshkosh-winter-farmers-market-9/
LOCATION:WI
ATTACH;FMTTYPE=image/png:https://oshkosharena.com/wp-content/uploads/2021/11/Farmers-Market.png
END:VEVENT
BEGIN:VEVENT
DTSTART;TZID=America/Chicago:20221109T180000
DTEND;TZID=America/Chicago:20221109T210000
DTSTAMP:20260423T132501
CREATED:20220902T155455Z
LAST-MODIFIED:20221102T152702Z
UID:10000941-1668016800-1668027600@oshkosharena.com
SUMMARY:Cleveland Charge @ Wisconsin Herd
DESCRIPTION:Cleveland Charge @ Wisconsin Herd\nLive at The Oshkosh Arena located at 1212 S. Main St\, Oshkosh\, WI (920) 309-8285
URL:https://oshkosharena.com/event/cleveland-charge-wisconsin-herd-4/
LOCATION:WI
ATTACH;FMTTYPE=image/png:https://oshkosharena.com/wp-content/uploads/2021/09/WH_Primary_RGB-3.png
END:VEVENT
BEGIN:VEVENT
DTSTART;TZID=America/Chicago:20221110T180000
DTEND;TZID=America/Chicago:20221110T210000
DTSTAMP:20260423T132501
CREATED:20220902T155822Z
LAST-MODIFIED:20221102T152858Z
UID:10000942-1668103200-1668114000@oshkosharena.com
SUMMARY:Cleveland Charge @ Wisconsin Herd
DESCRIPTION:Cleveland Charge @ Wisconsin Herd\nLive at The Oshkosh Arena located at 1212 S. Main St\, Oshkosh\, WI (920) 309-8285
URL:https://oshkosharena.com/event/cleveland-charge-wisconsin-herd-5/
LOCATION:WI
ATTACH;FMTTYPE=image/png:https://oshkosharena.com/wp-content/uploads/2021/09/WH_Primary_RGB-3.png
END:VEVENT
BEGIN:VEVENT
DTSTART;TZID=America/Chicago:20221111T190000
DTEND;TZID=America/Chicago:20221111T220000
DTSTAMP:20260423T132501
CREATED:20221011T183946Z
LAST-MODIFIED:20221011T183946Z
UID:10000956-1668193200-1668204000@oshkosharena.com
SUMMARY:CJ Solar
DESCRIPTION:Oshkosh Arena Presents :\nCJ Solar\nLive Friday November 11th\, 2022 at 7pm\nOshkosh Arena\n1212 S. Main St\nOshkosh\, Wisconsin 54911\nAll Ages to enter | 21+ With Id to Drink\nTickets ON SALE NOW!!! \n#oshkosh #events #concerts #music
URL:https://oshkosharena.com/event/cj-solar/
LOCATION:WI
ATTACH;FMTTYPE=image/jpeg:https://oshkosharena.com/wp-content/uploads/2022/10/Website-1220-X-550-Px.jpg
END:VEVENT
BEGIN:VEVENT
DTSTART;TZID=America/Chicago:20221112T190000
DTEND;TZID=America/Chicago:20221112T220000
DTSTAMP:20260423T132501
CREATED:20220902T160108Z
LAST-MODIFIED:20221102T153212Z
UID:10000943-1668279600-1668290400@oshkosharena.com
SUMMARY:Motor City Cruise @ Wisconsin Herd
DESCRIPTION:Motor City Cruise @ Wisconsin Herd\nLive at The Oshkosh Arena located at 1212 S. Main St\, Oshkosh\, WI (920) 309-8285
URL:https://oshkosharena.com/event/motor-city-cruise-wisconsin-herd-2/
LOCATION:WI
ATTACH;FMTTYPE=image/png:https://oshkosharena.com/wp-content/uploads/2021/09/WH_Primary_RGB-3.png
END:VEVENT
BEGIN:VEVENT
DTSTART;TZID=America/Chicago:20221115T180000
DTEND;TZID=America/Chicago:20221115T210000
DTSTAMP:20260423T132501
CREATED:20220927T171803Z
LAST-MODIFIED:20221102T153934Z
UID:10000787-1668535200-1668546000@oshkosharena.com
SUMMARY:Motor City Cruise @ Wisconsin Herd
DESCRIPTION:Motor City Cruise @ Wisconsin Herd\nLive at The Oshkosh Arena located at 1212 S. Main St\, Oshkosh\, WI (920) 309-8285
URL:https://oshkosharena.com/event/motor-city-cruise-wisconsin-herd-3/
LOCATION:WI
ATTACH;FMTTYPE=image/png:https://oshkosharena.com/wp-content/uploads/2021/09/WH_Primary_RGB-3.png
END:VEVENT
BEGIN:VEVENT
DTSTART;TZID=America/Chicago:20221118T200000
DTEND;TZID=America/Chicago:20221118T230000
DTSTAMP:20260423T132501
CREATED:20221018T214020Z
LAST-MODIFIED:20221019T210742Z
UID:10000957-1668801600-1668812400@oshkosharena.com
SUMMARY:Punk In The Pub Featuring Scary Canaries\, Excuse Me\, Who Are You?\, and Tiny Voices
DESCRIPTION:Oshkosh Arena and 1212 Sports Pub and Grill Present :\nPunk in the Pub Featuring Scary Canaries\, Excuse Me\, Who Are You?\, and Tiny Voices!\nLive Friday November 18th\, 2022 at 8pm\nDoors open at 6pm\n1212 S. Main St\nOshkosh\, Wisconsin 54902\nMust be 18+ | 21+ With Id to Drink\n$5 Cover Charge \n#oshkosh #events #concerts #music #localmusic #punkinthepub
URL:https://oshkosharena.com/event/punk-in-the-pub-featuring-scary-canaries-excuse-me-who-are-you-and-tiny-voices/
LOCATION:WI
ATTACH;FMTTYPE=image/jpeg:https://oshkosharena.com/wp-content/uploads/2022/10/Website-New.jpg
END:VEVENT
BEGIN:VEVENT
DTSTART;TZID=America/Chicago:20221119T190000
DTEND;TZID=America/Chicago:20221119T230000
DTSTAMP:20260423T132501
CREATED:20220608T180608Z
LAST-MODIFIED:20221102T180650Z
UID:10000928-1668884400-1668898800@oshkosharena.com
SUMMARY:ROCK THE ARENA
DESCRIPTION:Oshkosh Arena PRESENTS: Rock The Arena\nFeaturing Thunderstruck: America’s AC/DC Tribute\,\nThe Four Horsemen – Metallica Cover\, Jump Van Halen Tribute\,\nand Sabbath – The Complete Black Sabbath Experience\nLive November 19th at 7pm\nDoors : 6:00PM\nOshkosh Arena\n1212 S. Main St\nOshkosh\, Wisconsin 54902\nAll Ages to enter | 21+ With Id to Drink\nTICKETS ON SALE NOW!!!\n#oshkosh #concert #events #rockthearena
URL:https://oshkosharena.com/event/rock-the-arena/
LOCATION:WI
ATTACH;FMTTYPE=image/jpeg:https://oshkosharena.com/wp-content/uploads/2022/11/RTA-Arena-Website-1220-X-550-Px.jpg
END:VEVENT
BEGIN:VEVENT
DTSTART;TZID=America/Chicago:20221120T190000
DTEND;TZID=America/Chicago:20221120T230000
DTSTAMP:20260423T132501
CREATED:20220817T155138Z
LAST-MODIFIED:20220817T164821Z
UID:10000933-1668970800-1668985200@oshkosharena.com
SUMMARY:Daniel O'Donnell
DESCRIPTION:The Oshkosh Arena Presents:\nDaniel O’Donnell\nLive Sunday November 20th\, 2022 at 7:00PM\nDoors : 6:00PM\nOshkosh Arena\n1212 S. Main St\nOshkosh\, Wisconsin 54902\nAll Ages to enter | 21+ With Id to Drink\nTickets on sale this Friday August 19th!\n#oshkosh #concerts #events
URL:https://oshkosharena.com/event/daniel-odonnell/
LOCATION:WI
ATTACH;FMTTYPE=image/png:https://oshkosharena.com/wp-content/uploads/2022/08/Poster-11-X-17-in.png
END:VEVENT
BEGIN:VEVENT
DTSTART;TZID=America/Chicago:20221126T190000
DTEND;TZID=America/Chicago:20221126T220000
DTSTAMP:20260423T132501
CREATED:20220902T160412Z
LAST-MODIFIED:20221102T154735Z
UID:10000944-1669489200-1669500000@oshkosharena.com
SUMMARY:Sioux Falls Skyforce @ Wisconsin Herd
DESCRIPTION:Sioux Falls Skyforce @ Wisconsin Herd\nLive at The Oshkosh Arena located at 1212 S. Main St\, Oshkosh\, WI (920) 309-8285
URL:https://oshkosharena.com/event/sioux-falls-skyforce-wisconsin-herd/
LOCATION:WI
ATTACH;FMTTYPE=image/png:https://oshkosharena.com/wp-content/uploads/2021/09/WH_Primary_RGB-3.png
END:VEVENT
END:VCALENDAR