BEGIN:VCALENDAR
VERSION:2.0
PRODID:-//Oshkosh Arena - ECPv6.15.20//NONSGML v1.0//EN
CALSCALE:GREGORIAN
METHOD:PUBLISH
X-ORIGINAL-URL:https://oshkosharena.com
X-WR-CALDESC:Events for Oshkosh Arena
REFRESH-INTERVAL;VALUE=DURATION:PT1H
X-Robots-Tag:noindex
X-PUBLISHED-TTL:PT1H
BEGIN:VTIMEZONE
TZID:America/Chicago
BEGIN:DAYLIGHT
TZOFFSETFROM:-0600
TZOFFSETTO:-0500
TZNAME:CDT
DTSTART:20220313T080000
END:DAYLIGHT
BEGIN:STANDARD
TZOFFSETFROM:-0500
TZOFFSETTO:-0600
TZNAME:CST
DTSTART:20221106T070000
END:STANDARD
BEGIN:DAYLIGHT
TZOFFSETFROM:-0600
TZOFFSETTO:-0500
TZNAME:CDT
DTSTART:20230312T080000
END:DAYLIGHT
BEGIN:STANDARD
TZOFFSETFROM:-0500
TZOFFSETTO:-0600
TZNAME:CST
DTSTART:20231105T070000
END:STANDARD
BEGIN:DAYLIGHT
TZOFFSETFROM:-0600
TZOFFSETTO:-0500
TZNAME:CDT
DTSTART:20240310T080000
END:DAYLIGHT
BEGIN:STANDARD
TZOFFSETFROM:-0500
TZOFFSETTO:-0600
TZNAME:CST
DTSTART:20241103T070000
END:STANDARD
END:VTIMEZONE
BEGIN:VEVENT
DTSTART;TZID=America/Chicago:20230506T193000
DTEND;TZID=America/Chicago:20230506T220000
DTSTAMP:20260419T101736
CREATED:20230217T170828Z
LAST-MODIFIED:20230501T155246Z
UID:10000978-1683401400-1683410400@oshkosharena.com
SUMMARY:John Waite
DESCRIPTION:Oshkosh Arena Presents :\nJohn Waite\nSaturday May 6th\, 2023\nDoors open at 6pm\nJohn Waite's Documentary "The Hard Way" starts at 6:15pm\nShow starts at 7:45pm\nOshkosh Arena\n1212 S. Main St. Oshkosh\n#oshkosh #events #concerts #johnwaite
URL:https://oshkosharena.com/event/john-waite/
LOCATION:WI
ATTACH;FMTTYPE=image/jpeg:https://oshkosharena.com/wp-content/uploads/2023/02/Website-1220-X-550-Px.jpg
END:VEVENT
BEGIN:VEVENT
DTSTART;TZID=America/Chicago:20230519T200000
DTEND;TZID=America/Chicago:20230519T220000
DTSTAMP:20260419T101736
CREATED:20230301T165245Z
LAST-MODIFIED:20230517T222558Z
UID:10000982-1684526400-1684533600@oshkosharena.com
SUMMARY:SELENA TRIBUTE\, Los Chicos Del 512 (Cancelled)
DESCRIPTION:*Cancelled*\n\nOshkosh Arena Presents:\nSelena Tribute Los Chicos Del 512\nLive Friday\, May 19th\nShowtime – 8:00pm\nDoors – 7:00pm\nOshkosh Arena\n1212 S. Main St. Oshkosh
URL:https://oshkosharena.com/event/selena-tribute-los-chicos-del-512/
LOCATION:WI
ATTACH;FMTTYPE=image/png:https://oshkosharena.com/wp-content/uploads/2023/03/Untitled-design-23.png
END:VEVENT
BEGIN:VEVENT
DTSTART;TZID=America/Chicago:20230520T190000
DTEND;TZID=America/Chicago:20230520T230000
DTSTAMP:20260419T101736
CREATED:20230328T203518Z
LAST-MODIFIED:20230517T153158Z
UID:10000985-1684609200-1684623600@oshkosharena.com
SUMMARY:Johnny Lee and The Urban Cowboy Band Featuring Jeannie Seely (CANCELLED)
DESCRIPTION:*CANCELLED*\n\nOshkosh Arena Presents :\nJohnny Lee and the Urban Cowboy Band\nFeaturing Jeannie Seely!\nSaturday May 20th\, 2023\nOshkosh Arena\n1212 S. Main St. Oshkosh
URL:https://oshkosharena.com/event/johnny-lee-and-the-urban-cowboy-band-featuring-jeannie-seely/
LOCATION:WI
ATTACH;FMTTYPE=image/png:https://oshkosharena.com/wp-content/uploads/2023/03/Johnny-Lee-and-Jeannie-Seely.png
END:VEVENT
BEGIN:VEVENT
DTSTART;TZID=America/Chicago:20230528T120000
DTEND;TZID=America/Chicago:20230528T190000
DTSTAMP:20260419T101736
CREATED:20230516T145527Z
LAST-MODIFIED:20230516T145527Z
UID:10000824-1685275200-1685300400@oshkosharena.com
SUMMARY:Bridge The Gap - Wisconsin GLO vs. Japan
DESCRIPTION:Bridge The Gap!\nWisconsin GLO vs. Japan\nSunday May 28th\nDoors open at Noon\nYouth Games 12:30pm-2:30pm\nTipoff at 4:00pm\n1212 S. Main St. Oshkosh\nCome hangout with us Memorial Day Weekend!
URL:https://oshkosharena.com/event/bridge-the-gap-wisconsin-glo-vs-japan/
LOCATION:WI
ATTACH;FMTTYPE=image/jpeg:https://oshkosharena.com/wp-content/uploads/2023/05/BTG-Instagram-1200-X-1200-Px.jpg
END:VEVENT
END:VCALENDAR