BEGIN:VCALENDAR
VERSION:2.0
PRODID:-//Oshkosh Arena - ECPv6.15.20//NONSGML v1.0//EN
CALSCALE:GREGORIAN
METHOD:PUBLISH
X-ORIGINAL-URL:https://oshkosharena.com
X-WR-CALDESC:Events for Oshkosh Arena
REFRESH-INTERVAL;VALUE=DURATION:PT1H
X-Robots-Tag:noindex
X-PUBLISHED-TTL:PT1H
BEGIN:VTIMEZONE
TZID:America/Chicago
BEGIN:DAYLIGHT
TZOFFSETFROM:-0600
TZOFFSETTO:-0500
TZNAME:CDT
DTSTART:20220313T080000
END:DAYLIGHT
BEGIN:STANDARD
TZOFFSETFROM:-0500
TZOFFSETTO:-0600
TZNAME:CST
DTSTART:20221106T070000
END:STANDARD
BEGIN:DAYLIGHT
TZOFFSETFROM:-0600
TZOFFSETTO:-0500
TZNAME:CDT
DTSTART:20230312T080000
END:DAYLIGHT
BEGIN:STANDARD
TZOFFSETFROM:-0500
TZOFFSETTO:-0600
TZNAME:CST
DTSTART:20231105T070000
END:STANDARD
BEGIN:DAYLIGHT
TZOFFSETFROM:-0600
TZOFFSETTO:-0500
TZNAME:CDT
DTSTART:20240310T080000
END:DAYLIGHT
BEGIN:STANDARD
TZOFFSETFROM:-0500
TZOFFSETTO:-0600
TZNAME:CST
DTSTART:20241103T070000
END:STANDARD
END:VTIMEZONE
BEGIN:VEVENT
DTSTART;VALUE=DATE:20230805
DTEND;VALUE=DATE:20230806
DTSTAMP:20260419T101349
CREATED:20230705T194900Z
LAST-MODIFIED:20230724T195300Z
UID:10000828-1691193600-1691279999@oshkosharena.com
SUMMARY:GWBA Playoffs
DESCRIPTION:GWBA Playoffs Day 1 \nDoors – 1:00pm \nFirst Game – 2:00pm \nKansas City Crossover vs. Flint Monarchs \nSecond Game – 5:30pm \nWisconsin GLO vs. St. Louis Surge \n1212 S. Main St. Oshkosh
URL:https://oshkosharena.com/event/gwba-playoffs-day-1/
LOCATION:WI
ATTACH;FMTTYPE=image/png:https://oshkosharena.com/wp-content/uploads/2023/07/Generic-GWBA-Playoffs-1.png
END:VEVENT
BEGIN:VEVENT
DTSTART;TZID=America/Chicago:20230806T130000
DTEND;TZID=America/Chicago:20230806T160000
DTSTAMP:20260419T101349
CREATED:20230705T195041Z
LAST-MODIFIED:20230724T195543Z
UID:10000830-1691326800-1691337600@oshkosharena.com
SUMMARY:GWBA Championship Game
DESCRIPTION:The GWBA Championship game will be played between the two teams that win their games on Saturday August 5th. \nDoors – 12:00pm (Noon) \nTipoff – 1:00pm \n1212 S. Main St. Oshkosh
URL:https://oshkosharena.com/event/gwba-playoffs-day-2/
LOCATION:WI
ATTACH;FMTTYPE=image/png:https://oshkosharena.com/wp-content/uploads/2023/07/Generic-GWBA-Playoffs-1.png
END:VEVENT
END:VCALENDAR