BEGIN:VCALENDAR
VERSION:2.0
PRODID:-//Oshkosh Arena - ECPv6.15.20//NONSGML v1.0//EN
CALSCALE:GREGORIAN
METHOD:PUBLISH
X-ORIGINAL-URL:https://oshkosharena.com
X-WR-CALDESC:Events for Oshkosh Arena
REFRESH-INTERVAL;VALUE=DURATION:PT1H
X-Robots-Tag:noindex
X-PUBLISHED-TTL:PT1H
BEGIN:VTIMEZONE
TZID:America/Chicago
BEGIN:DAYLIGHT
TZOFFSETFROM:-0600
TZOFFSETTO:-0500
TZNAME:CDT
DTSTART:20210314T080000
END:DAYLIGHT
BEGIN:STANDARD
TZOFFSETFROM:-0500
TZOFFSETTO:-0600
TZNAME:CST
DTSTART:20211107T070000
END:STANDARD
BEGIN:DAYLIGHT
TZOFFSETFROM:-0600
TZOFFSETTO:-0500
TZNAME:CDT
DTSTART:20220313T080000
END:DAYLIGHT
BEGIN:STANDARD
TZOFFSETFROM:-0500
TZOFFSETTO:-0600
TZNAME:CST
DTSTART:20221106T070000
END:STANDARD
BEGIN:DAYLIGHT
TZOFFSETFROM:-0600
TZOFFSETTO:-0500
TZNAME:CDT
DTSTART:20230312T080000
END:DAYLIGHT
BEGIN:STANDARD
TZOFFSETFROM:-0500
TZOFFSETTO:-0600
TZNAME:CST
DTSTART:20231105T070000
END:STANDARD
END:VTIMEZONE
BEGIN:VEVENT
DTSTART;TZID=America/Chicago:20220709T190000
DTEND;TZID=America/Chicago:20220709T220000
DTSTAMP:20260420T144321
CREATED:20220210T214346Z
LAST-MODIFIED:20220629T163229Z
UID:10000743-1657393200-1657404000@oshkosharena.com
SUMMARY:WISCONSIN GLO VS. FLINT MONARCHS
DESCRIPTION:Live at The Oshkosh Arena located at 1212 S. Main St\, Oshkosh\, WI (920) 309-8285
URL:https://oshkosharena.com/event/wisconsin-glo-vs-flint-monarchs/
LOCATION:WI
ATTACH;FMTTYPE=image/png:https://oshkosharena.com/wp-content/uploads/2022/02/June-26th-FB-Header-2.png
END:VEVENT
BEGIN:VEVENT
DTSTART;TZID=America/Chicago:20220710T150000
DTEND;TZID=America/Chicago:20220710T180000
DTSTAMP:20260420T144321
CREATED:20220210T214519Z
LAST-MODIFIED:20220629T181053Z
UID:10000745-1657465200-1657476000@oshkosharena.com
SUMMARY:WISCONSIN GLO VS. FLINT MONARCHS
DESCRIPTION:Live at The Oshkosh Arena located at 1212 S. Main St\, Oshkosh\, WI (920) 309-8285
URL:https://oshkosharena.com/event/wisconsin-glo-vs-flint-monarchs-2/
LOCATION:WI
ATTACH;FMTTYPE=image/png:https://oshkosharena.com/wp-content/uploads/2022/02/July-10th-FB-Header.png
END:VEVENT
BEGIN:VEVENT
DTSTART;TZID=America/Chicago:20220710T180000
DTEND;TZID=America/Chicago:20220710T210000
DTSTAMP:20260420T144321
CREATED:20220629T181604Z
LAST-MODIFIED:20220629T181654Z
UID:10000930-1657476000-1657486800@oshkosharena.com
SUMMARY:Starlifter : USAF Band of Mid-America
DESCRIPTION:Oshkosh Arena Presents: \nStarlifter : USAF Band of Mid-America \nStarts at 6PM after the Wisconsin GLO game!
URL:https://oshkosharena.com/event/starlifter-usaf-band-of-mid-america/
LOCATION:WI
ATTACH;FMTTYPE=image/png:https://oshkosharena.com/wp-content/uploads/2022/06/starlifter-1220-×-550-px.png
END:VEVENT
END:VCALENDAR