BEGIN:VCALENDAR
VERSION:2.0
PRODID:-//Oshkosh Arena - ECPv6.15.20//NONSGML v1.0//EN
CALSCALE:GREGORIAN
METHOD:PUBLISH
X-ORIGINAL-URL:https://oshkosharena.com
X-WR-CALDESC:Events for Oshkosh Arena
REFRESH-INTERVAL;VALUE=DURATION:PT1H
X-Robots-Tag:noindex
X-PUBLISHED-TTL:PT1H
BEGIN:VTIMEZONE
TZID:America/Chicago
BEGIN:DAYLIGHT
TZOFFSETFROM:-0600
TZOFFSETTO:-0500
TZNAME:CDT
DTSTART:20210314T080000
END:DAYLIGHT
BEGIN:STANDARD
TZOFFSETFROM:-0500
TZOFFSETTO:-0600
TZNAME:CST
DTSTART:20211107T070000
END:STANDARD
BEGIN:DAYLIGHT
TZOFFSETFROM:-0600
TZOFFSETTO:-0500
TZNAME:CDT
DTSTART:20220313T080000
END:DAYLIGHT
BEGIN:STANDARD
TZOFFSETFROM:-0500
TZOFFSETTO:-0600
TZNAME:CST
DTSTART:20221106T070000
END:STANDARD
BEGIN:DAYLIGHT
TZOFFSETFROM:-0600
TZOFFSETTO:-0500
TZNAME:CDT
DTSTART:20230312T080000
END:DAYLIGHT
BEGIN:STANDARD
TZOFFSETFROM:-0500
TZOFFSETTO:-0600
TZNAME:CST
DTSTART:20231105T070000
END:STANDARD
END:VTIMEZONE
BEGIN:VEVENT
DTSTART;TZID=America/Chicago:20221214T180000
DTEND;TZID=America/Chicago:20221214T210000
DTSTAMP:20260420T200818
CREATED:20220902T160617Z
LAST-MODIFIED:20221102T173702Z
UID:10000945-1671040800-1671051600@oshkosharena.com
SUMMARY:Fort Wayne Mad Ants @ Wisconsin Herd
DESCRIPTION:Fort Wayne Mad Ants @ Wisconsin Herd\nLive at The Oshkosh Arena located at 1212 S. Main St\, Oshkosh\, WI (920) 309-8285
URL:https://oshkosharena.com/event/fort-wayne-mad-ants-wisconsin-herd-4/
LOCATION:WI
ATTACH;FMTTYPE=image/png:https://oshkosharena.com/wp-content/uploads/2021/09/WH_Primary_RGB-3.png
END:VEVENT
BEGIN:VEVENT
DTSTART;TZID=America/Chicago:20221216T190000
DTEND;TZID=America/Chicago:20221216T220000
DTSTAMP:20260420T200818
CREATED:20220902T160732Z
LAST-MODIFIED:20221102T173922Z
UID:10000946-1671217200-1671228000@oshkosharena.com
SUMMARY:Fort Wayne Mad Ants @ Wisconsin Herd
DESCRIPTION:Fort Wayne Mad Ants @ Wisconsin Herd\nLive at The Oshkosh Arena located at 1212 S. Main St\, Oshkosh\, WI (920) 309-8285
URL:https://oshkosharena.com/event/fort-wayne-mad-ants-wisconsin-herd-5/
LOCATION:WI
ATTACH;FMTTYPE=image/png:https://oshkosharena.com/wp-content/uploads/2021/09/WH_Primary_RGB-3.png
END:VEVENT
BEGIN:VEVENT
DTSTART;TZID=America/Chicago:20221218T190000
DTEND;TZID=America/Chicago:20221218T230000
DTSTAMP:20260420T200818
CREATED:20221031T181007Z
LAST-MODIFIED:20221104T181257Z
UID:10000960-1671390000-1671404400@oshkosharena.com
SUMMARY:Nelly
DESCRIPTION:It’s officially hot in here…ON SALE NOW!!!\nOshkosh Arena and 95.9 KISSFM Present : Nelly\nLive Sunday December 18th\, 2022 at 7pm\nDoors open at 6pm\nOshkosh Arena\n1212 S. Main St\nOshkosh\, Wisconsin 54902\nAll Ages to enter | 21+ With Id to Drink\nhttps://www.ticketmaster.com/event/07005D5F73D90F05\n#oshkosh #events #concerts #nelly
URL:https://oshkosharena.com/event/nelly-2/
LOCATION:WI
ATTACH;FMTTYPE=image/jpeg:https://oshkosharena.com/wp-content/uploads/2022/10/Website-1220-X-550-Px-5.jpg
END:VEVENT
END:VCALENDAR