BEGIN:VCALENDAR
VERSION:2.0
PRODID:-//Oshkosh Arena - ECPv6.15.20//NONSGML v1.0//EN
CALSCALE:GREGORIAN
METHOD:PUBLISH
X-ORIGINAL-URL:https://oshkosharena.com
X-WR-CALDESC:Events for Oshkosh Arena
REFRESH-INTERVAL;VALUE=DURATION:PT1H
X-Robots-Tag:noindex
X-PUBLISHED-TTL:PT1H
BEGIN:VTIMEZONE
TZID:America/Chicago
BEGIN:DAYLIGHT
TZOFFSETFROM:-0600
TZOFFSETTO:-0500
TZNAME:CDT
DTSTART:20210314T080000
END:DAYLIGHT
BEGIN:STANDARD
TZOFFSETFROM:-0500
TZOFFSETTO:-0600
TZNAME:CST
DTSTART:20211107T070000
END:STANDARD
BEGIN:DAYLIGHT
TZOFFSETFROM:-0600
TZOFFSETTO:-0500
TZNAME:CDT
DTSTART:20220313T080000
END:DAYLIGHT
BEGIN:STANDARD
TZOFFSETFROM:-0500
TZOFFSETTO:-0600
TZNAME:CST
DTSTART:20221106T070000
END:STANDARD
BEGIN:DAYLIGHT
TZOFFSETFROM:-0600
TZOFFSETTO:-0500
TZNAME:CDT
DTSTART:20230312T080000
END:DAYLIGHT
BEGIN:STANDARD
TZOFFSETFROM:-0500
TZOFFSETTO:-0600
TZNAME:CST
DTSTART:20231105T070000
END:STANDARD
BEGIN:DAYLIGHT
TZOFFSETFROM:-0600
TZOFFSETTO:-0500
TZNAME:CDT
DTSTART:20240310T080000
END:DAYLIGHT
BEGIN:STANDARD
TZOFFSETFROM:-0500
TZOFFSETTO:-0600
TZNAME:CST
DTSTART:20241103T070000
END:STANDARD
END:VTIMEZONE
BEGIN:VEVENT
DTSTART;TZID=America/Chicago:20221229T120000
DTEND;TZID=America/Chicago:20221229T220000
DTSTAMP:20260420T001832
CREATED:20221211T230816Z
LAST-MODIFIED:20221229T163934Z
UID:10000974-1672315200-1672351200@oshkosharena.com
SUMMARY:BSN WINTER CLASSIC DAY 1
DESCRIPTION:The BSN Winter Classic is back! Come support UW-Oshkosh Women’s Basketball and UW-Oshkosh Men’s Basketball December 29th and 30th! Tickets are purchased for the day and not the individual games. #oshkosh #uwobasketball #bsnwinterclassic\n\n\nDoors open at 11am\nFirst Game – 12pm – Women’s – UW-Stout vs. Ripon College\nSecond Game – 2:30pm – Women’s – UW-Oshkosh vs. WashU\nThird Game – 5pm – Men’s – UW-Eau Claire vs. Marian University\nFourth Game – 7:30pm – Men’s – UW-Oshkosh vs. Ohio Wesleyan University\nOshkosh Arena\n1212 S. Main St\nOshkosh\, Wisconsin 54902
URL:https://oshkosharena.com/event/bsn-winter-classic-day-1/
LOCATION:WI
ATTACH;FMTTYPE=image/png:https://oshkosharena.com/wp-content/uploads/2022/12/Screenshot-2022-12-09-131819.png
END:VEVENT
BEGIN:VEVENT
DTSTART;TZID=America/Chicago:20221230T120000
DTEND;TZID=America/Chicago:20221230T180000
DTSTAMP:20260420T001832
CREATED:20221211T230907Z
LAST-MODIFIED:20221229T161925Z
UID:10000975-1672401600-1672423200@oshkosharena.com
SUMMARY:BSN WINTER CLASSIC DAY 2
DESCRIPTION:The BSN Winter Classic is back! Come support UW-Oshkosh Women’s Basketball and UW-Oshkosh Men’s Basketball December 29th and 30th! Tickets are purchased for the day and not the individual games. #oshkosh #uwobasketball #bsnwinterclassic\n\n\nDoors open at 11am\nFirst Game – 12pm – Women’s – UW-Stout vs. WashU\nSecond Game – 2:30pm – Men’s – UW-Eau Claire vs. Ohio Wesleyan\nThird Game – 5pm – Women’s – UW-Oshkosh vs. Ripon College\nFourth Game – 7:30pm – Men’s – UW-Oshkosh vs. Marian University\nOshkosh Arena\n1212 S. Main St\nOshkosh\, Wisconsin 54902
URL:https://oshkosharena.com/event/bsn-winter-classic-day-2/
LOCATION:WI
ATTACH;FMTTYPE=image/png:https://oshkosharena.com/wp-content/uploads/2022/12/Screenshot-2022-12-09-131819.png
END:VEVENT
BEGIN:VEVENT
DTSTART;TZID=America/Chicago:20221231T190000
DTEND;TZID=America/Chicago:20221231T220000
DTSTAMP:20260420T001832
CREATED:20220902T161018Z
LAST-MODIFIED:20221102T174055Z
UID:10000947-1672513200-1672524000@oshkosharena.com
SUMMARY:Grand Rapids Gold @ Wisconsin Herd
DESCRIPTION:Grand Rapids Gold @ Wisconsin Herd\nLive at The Oshkosh Arena located at 1212 S. Main St\, Oshkosh\, WI (920) 309-8285
URL:https://oshkosharena.com/event/grand-rapids-gold-wisconsin-herd-2/
LOCATION:WI
ATTACH;FMTTYPE=image/png:https://oshkosharena.com/wp-content/uploads/2021/09/WH_Primary_RGB-3.png
END:VEVENT
BEGIN:VEVENT
DTSTART;TZID=America/Chicago:20230101T140000
DTEND;TZID=America/Chicago:20230101T170000
DTSTAMP:20260420T001832
CREATED:20221010T172639Z
LAST-MODIFIED:20221010T172639Z
UID:10000788-1672581600-1672592400@oshkosharena.com
SUMMARY:Harlem Globetrotters 2023 World Tour
DESCRIPTION:Oshkosh Arena Presents :\nHarlem Globetrotters 2023 World Tour\nLive Sunday January 1st\, 2023 at 2pm\nOshkosh Arena\n1212 S. Main St\nOshkosh\, Wisconsin 54911\nAll Ages to enter | 21+ With Id to Drink\n**Tickets on sale Monday October 24th at 10am!**\n#oshkosh #events #basketball #harlemglobetrotters
URL:https://oshkosharena.com/event/harlem-globetrotters-2023-world-tour/
LOCATION:WI
ATTACH;FMTTYPE=image/jpeg:https://oshkosharena.com/wp-content/uploads/2022/10/17444-22-HGT2-OshkoshWI-OshkoshArena-1220x550-1.jpg
END:VEVENT
END:VCALENDAR